BEGIN:VCALENDAR
VERSION:2.0
PRODID:-//Library Market//iCal Export//EN
BEGIN:VEVENT
SUMMARY:Stomp Into Summer!: Kick-Off Party
UID:22432
DTSTAMP:20260426T002300Z
DTSTART:20260526T180000Z
DTEND:20260526T190000Z
LOCATION:720 Crescent Avenue, Lockport, LA 70374, United States
ROOM: Lockport - Meeting Room
DESCRIPTION:Todayâ€™s the first day of our Summer Experience program. To c
 elebrate, weâ€™ll have cake and snowballs along with some fun crafts and g
 ames! Stop by for a treat and sign up for a fun-filled summer!Age Group: Â
  All AgesProgram Type: Â No Registration/Limit
URL:https://lafourche.librarycalendar.com/event/stomp-summer-kick-party-22
 432
END:VEVENT
END:VCALENDAR
