BEGIN:VCALENDAR
VERSION:2.0
PRODID:-//Library Market//iCal Export//EN
BEGIN:VEVENT
SUMMARY:Summer Manicures
UID:22433
DTSTAMP:20260425T194100Z
DTSTART:20260528T180000Z
DTEND:20260528T190000Z
LOCATION:720 Crescent Avenue, Lockport, LA 70374, United States
ROOM: Lockport - Meeting Room
DESCRIPTION:Join us to learn new tricks for polishing your nails in a fun 
 and colorful style. Age Group:  All AgesProgram Type:  No Registration/
 Limit
URL:https://lafourche.librarycalendar.com/event/summer-manicures-22433
END:VEVENT
END:VCALENDAR
