BEGIN:VCALENDAR
VERSION:2.0
PRODID:-//Library Market//iCal Export//EN
BEGIN:VEVENT
SUMMARY:Dino Bingo
UID:22434
DTSTAMP:20260425T102600Z
DTSTART:20260530T190000Z
DTEND:20260530T200000Z
LOCATION:720 Crescent Avenue, Lockport, LA 70374, United States
ROOM: Lockport - Meeting Room
DESCRIPTION:Play dinosaur themed BINGO with your library friends for a cha
 nce to win prizes!Age Group:  All AgesProgram Type:  No Registration/Lim
 it
URL:https://lafourche.librarycalendar.com/event/dino-bingo-22434
END:VEVENT
END:VCALENDAR
