BEGIN:VCALENDAR
VERSION:2.0
PRODID:-//Library Market//iCal Export//EN
BEGIN:VEVENT
SUMMARY:Glue Dot Name Craft
UID:22435
DTSTAMP:20260425T015600Z
DTSTART:20260504T210000Z
DTEND:20260504T220000Z
LOCATION:177 Recreation Drive, Raceland, LA 70394, United States
ROOM: Raceland - Meeting Room
DESCRIPTION:Join us for a crafty and fun name craft that’s glue mess fre
 e. Age Group:  Ages 0-5Program Type:  No Registration/Limit
URL:https://lafourche.librarycalendar.com/event/glue-dot-name-craft-22435
END:VEVENT
END:VCALENDAR
