BEGIN:VCALENDAR
VERSION:2.0
PRODID:-//Library Market//iCal Export//EN
BEGIN:VEVENT
SUMMARY:Pac Man Characters Craft
UID:22437
DTSTAMP:20260425T202000Z
DTSTART:20260506T210000Z
DTEND:20260506T220000Z
LOCATION:177 Recreation Drive, Raceland, LA 70394, United States
ROOM: Raceland - Meeting Room
DESCRIPTION:80s retro eat your heart out! Get your vintage gaming on with 
 some fun nostalgic gear you can bring to the arcade. Age Group:  All Age
 sProgram Type:  No Registration/Limit
URL:https://lafourche.librarycalendar.com/event/pac-man-characters-craft-2
 2437
END:VEVENT
END:VCALENDAR
