BEGIN:VCALENDAR
VERSION:2.0
PRODID:-//Library Market//iCal Export//EN
BEGIN:VEVENT
SUMMARY:Hot Diggity Dog
UID:22439
DTSTAMP:20260425T200200Z
DTSTART:20260518T210000Z
DTEND:20260518T220000Z
LOCATION:177 Recreation Drive, Raceland, LA 70394, United States
ROOM: Raceland - Meeting Room
DESCRIPTION:Warm weather calls for picnics, plan your summer fun! (note- c
 raft isn’t edible, snacks will be) Age Group:  KidsProgram Type:  No 
 Registration/Limit
URL:https://lafourche.librarycalendar.com/event/hot-diggity-dog-22439
END:VEVENT
END:VCALENDAR
