BEGIN:VCALENDAR
VERSION:2.0
PRODID:-//Library Market//iCal Export//EN
BEGIN:VEVENT
SUMMARY:Rainbow Science Experiment
UID:22444
DTSTAMP:20260425T194100Z
DTSTART:20260528T190000Z
DTEND:20260528T200000Z
LOCATION:177 Recreation Drive, Raceland, LA 70394, United States
ROOM: Raceland - Meeting Room
DESCRIPTION:Wanna see a chemical reaction using candy and water? Check out
  our candy science experiment that uses melting Skittles and H2O. Age Gro
 up:  All AgesProgram Type:  No Registration/Limit
URL:https://lafourche.librarycalendar.com/event/rainbow-science-experiment
 -22444
END:VEVENT
END:VCALENDAR
