BEGIN:VCALENDAR
VERSION:2.0
PRODID:-//Library Market//iCal Export//EN
BEGIN:VEVENT
SUMMARY:Painting Workshop: Spring Duckling
UID:22445
DTSTAMP:20260425T202000Z
DTSTART:20260513T190000Z
DTEND:20260513T200000Z
LOCATION:177 Recreation Drive, Raceland, LA 70394, United States
ROOM: Raceland - Meeting Room
DESCRIPTION:Learn blending and nature patterns at a spring animal themed p
 ainting workshop. Age Group:  AdultsProgram Type:  No Registration/Limi
 t
URL:https://lafourche.librarycalendar.com/event/painting-workshop-spring-d
 uckling-22445
END:VEVENT
END:VCALENDAR
