BEGIN:VCALENDAR
VERSION:2.0
PRODID:-//Library Market//iCal Export//EN
BEGIN:VEVENT
SUMMARY:Line Dancing Class
UID:22446
DTSTAMP:20260425T200200Z
DTSTART:20260514T150000Z
DTEND:20260514T160000Z
LOCATION:177 Recreation Drive, Raceland, LA 70394, United States
ROOM: Raceland - Meeting Room
DESCRIPTION:Get down home country with a guided line dancing lesson taught
  by Kaina Boyd filled with music, dancing, and fun. Age Group:  AdultsPr
 ogram Type:  No Registration/Limit
URL:https://lafourche.librarycalendar.com/event/line-dancing-class-22446
END:VEVENT
END:VCALENDAR
