BEGIN:VCALENDAR
VERSION:2.0
PRODID:-//Library Market//iCal Export//EN
BEGIN:VEVENT
SUMMARY:Family Time
UID:22449
DTSTAMP:20260425T200200Z
DTSTART:20260519T210000Z
DTEND:20260519T220000Z
LOCATION:177 Recreation Drive, Raceland, LA 70394, United States
ROOM: Raceland - Meeting Room
DESCRIPTION:Our family time is getting a revamp with books, songs, games, 
 and crafts for the whole family! Age Group:  All AgesProgram Type:  No 
 Registration/Limit
URL:https://lafourche.librarycalendar.com/event/family-time-22449
END:VEVENT
END:VCALENDAR
