BEGIN:VCALENDAR
VERSION:2.0
PRODID:-//Library Market//iCal Export//EN
BEGIN:VEVENT
SUMMARY:Library Prom
UID:22451
DTSTAMP:20260426T004300Z
DTSTART:20260505T213000Z
DTEND:20260505T223000Z
LOCATION:177 Recreation Drive, Raceland, LA 70394, United States
ROOM: Raceland - Meeting Room
DESCRIPTION:The cutest event of the spring! Come dressed in your best glam
  or favorite outfit. We&#039;ll play, take prom photos, enjoy snacks, and 
 dance on our bubble wrap floor!             Age Group:  All AgesPr
 ogram Type:  No Registration/Limit
URL:https://lafourche.librarycalendar.com/event/library-prom-22451
END:VEVENT
END:VCALENDAR
