BEGIN:VCALENDAR
VERSION:2.0
PRODID:-//Library Market//iCal Export//EN
BEGIN:VEVENT
SUMMARY:Prehistoric Bingo
UID:22457
DTSTAMP:20260425T102600Z
DTSTART:20260528T210000Z
DTEND:20260528T220000Z
LOCATION:177 Recreation Drive, Raceland, LA 70394, United States
ROOM: Raceland - Meeting Room
DESCRIPTION:Everyone has the chance to win at this prehistoric themed Bing
 o gameAge Group:  All AgesProgram Type:  No Registration/Limit
URL:https://lafourche.librarycalendar.com/event/prehistoric-bingo-22457
END:VEVENT
END:VCALENDAR
