BEGIN:VCALENDAR
VERSION:2.0
PRODID:-//Library Market//iCal Export//EN
BEGIN:VEVENT
SUMMARY:STEAM Sit-Down
UID:22460
DTSTAMP:20260425T102600Z
DTSTART:20260506T200000Z
DTEND:20260506T220000Z
LOCATION:177 Recreation Drive, Raceland, LA 70394, United States
ROOM: Raceland - Meeting Room
DESCRIPTION:Code, construct, create, &amp; have fun with cool STEAM resour
 ces at the library every Monday - Thursday from 3-5 PM.Age Group:  All Ag
 esProgram Type:  No Registration/Limit
URL:https://lafourche.librarycalendar.com/event/steam-sit-down-22460
END:VEVENT
END:VCALENDAR
