BEGIN:VCALENDAR
VERSION:2.0
PRODID:-//Library Market//iCal Export//EN
BEGIN:VEVENT
SUMMARY:Creation Station: Bean Sheep
UID:22475
DTSTAMP:20260426T002300Z
DTSTART:20260518T050000Z
DTEND:20260521T050000Z
LOCATION:177 Recreation Drive, Raceland, LA 70394, United States
ROOM: Raceland - Main Area
DESCRIPTION:Drop in and create a craft at our new Creative Station. Each w
 eek new craft supplies will be available for the latest craft. Crafts are 
 perfect for ages 6-11.Age Group:  KidsProgram Type:  No Registration/Lim
 it
URL:https://lafourche.librarycalendar.com/event/creation-station-bean-shee
 p-22475
END:VEVENT
END:VCALENDAR
